BEGIN:VCALENDAR
METHOD:PUBLISH
VERSION:2.0
CALSCALE:GREGORIAN
PRODID:-//NONSGML WPForms//NONSGML Sugar Calendar Feeds v3.11.0//EN
X-WR-CALNAME:The Four Factor Model: A New Model of Leadership
X-WR-CALDESC:ICCP | The Institute of Coaching and Consulting Psychology
X-WR-TIMEZONE:Australia/Adelaide
BEGIN:VTIMEZONE
TZID:Australia/Adelaide
BEGIN:DAYLIGHT
TZOFFSETFROM:+0930
TZOFFSETTO:+1030
DTSTART:20251004T163000
TZNAME:ACDT
END:DAYLIGHT
END:VTIMEZONE
BEGIN:VTIMEZONE
TZID:Australia/Sydney
BEGIN:DAYLIGHT
TZOFFSETFROM:+1000
TZOFFSETTO:+1100
DTSTART:20251004T160000
TZNAME:AEDT
END:DAYLIGHT
END:VTIMEZONE
BEGIN:VEVENT
SUMMARY:The Four Factor Model: A New Model of Leadership
DESCRIPTION:Webinar Invitation: The Four Factor Model of Leadership\n\n\
 n\nExploring the practical application of leadership in organisational l
 ife\n\n\n\nIn leadership\, the real challenge of solving complex problem
 s often lies not just in the complexity of the problems themselves — b
 ut in the perspectives and assumptions we bring to them. The habitual pa
 tterns of conversation and interaction that leaders use to address diffi
 cult\, shifting issues can sometimes make those problems even harder to 
 solve. In other words\, the torch we use to navigate complexity can\, at
  times\, illuminate the wrong things.\n\n\n\n\n\n\n\n\n\n\n\nEffective l
 eaders learn to direct that light more broadly — across their organisa
 tional systems — to see what might actually be holding their challenge
 s in place. They develop the capacity to take more complex perspectives\
 , examine their assumptions\, and shape the kinds of conversations that 
 create real movement and adaptation in their teams and organisations.\n\
 n\n\nThe Four Factor Model of Leadership provides a practical and resear
 ch-informed framework for doing just that. It helps leaders recognise an
 d engage with the everyday organisational dynamics that underpin both le
 adership effectiveness and organisational performance.\n\n\n\nJoin us as
  we introduce this model and explore its practical application in the re
 alities of modern organisational life.\n\n\n\nThere is no cost to attend
 \, but places are limited.Reserve your spot today — and take the oppor
 tunity to experience a new way of understanding leadership in complexity
 .\n\n\n\nBest regards\,Michael and Kevin\n\n\n\nThe Institute of Coachin
 g &amp\; Consulting Psychology (ICCP)
URL;VALUE=URI:https://iccp.com.au/events/the-four-factor-model-a-new-mod
 el-of-leadership/
UID:urn:uuid:5fc86042-81a5-4e77-8ff8-92ce733ca56a
STATUS:CONFIRMED
ORGANIZER:
DTSTAMP:20260421T123528Z
DTSTART;TZID=Australia/Sydney:20251112T120000
DTEND;TZID=Australia/Sydney:20251112T124500
END:VEVENT
END:VCALENDAR