BEGIN:VCALENDAR
METHOD:PUBLISH
VERSION:2.0
CALSCALE:GREGORIAN
PRODID:-//NONSGML WPForms//NONSGML Sugar Calendar Feeds v3.11.0//EN
X-WR-CALNAME:Professional Certificate in Coaching Psychology - Days 3 &a
 mp\; 4
X-WR-CALDESC:ICCP | The Institute of Coaching and Consulting Psychology
X-WR-TIMEZONE:Australia/Adelaide
BEGIN:VTIMEZONE
TZID:Australia/Adelaide
BEGIN:STANDARD
TZOFFSETFROM:+1030
TZOFFSETTO:+0930
DTSTART:20260404T163000
TZNAME:ACST
END:STANDARD
END:VTIMEZONE
BEGIN:VTIMEZONE
TZID:Australia/Adelaide
BEGIN:STANDARD
TZOFFSETFROM:+1030
TZOFFSETTO:+0930
DTSTART:20260404T163000
TZNAME:ACST
END:STANDARD
END:VTIMEZONE
BEGIN:VEVENT
SUMMARY:Professional Certificate in Coaching Psychology - Days 3 &amp\; 
 4
DESCRIPTION:These 2 days are the final sessions of the workshop that beg
 an earlier in the month. They are placed here as a reminder to block the
 m out when you enrol in the course.
URL;VALUE=URI:https://iccp.com.au/events/professional-certificate-in-coa
 ching-psychology-days-3-4/
UID:urn:uuid:50d0df96-9171-49a8-9cd8-ca3df0460b5f
STATUS:CONFIRMED
ORGANIZER:
DTSTAMP:20260421T082239Z
DTSTART;VALUE=DATE:20260723
DTEND;VALUE=DATE:20260724
LOCATION:Level 4\, Holme Building
END:VEVENT
END:VCALENDAR