BEGIN:VCALENDAR
METHOD:PUBLISH
VERSION:2.0
CALSCALE:GREGORIAN
PRODID:-//NONSGML WPForms//NONSGML Sugar Calendar Feeds v3.11.0//EN
X-WR-CALNAME:Leading in Complex Times
X-WR-CALDESC:ICCP | The Institute of Coaching and Consulting Psychology
X-WR-TIMEZONE:Australia/Adelaide
BEGIN:VTIMEZONE
TZID:Australia/Adelaide
BEGIN:STANDARD
TZOFFSETFROM:+1030
TZOFFSETTO:+0930
DTSTART:20260404T163000
TZNAME:ACST
END:STANDARD
END:VTIMEZONE
BEGIN:VTIMEZONE
TZID:Australia/Adelaide
BEGIN:STANDARD
TZOFFSETFROM:+1030
TZOFFSETTO:+0930
DTSTART:20260404T163000
TZNAME:ACST
END:STANDARD
END:VTIMEZONE
BEGIN:VEVENT
SUMMARY:Leading in Complex Times
DESCRIPTION:These 2 days are the final sessions of the workshop that beg
 an earlier in the month. They are placed here as a reminder to block the
 m out when you enrol in the course.
URL;VALUE=URI:https://iccp.com.au/events/leading-in-complex-times-2/
UID:urn:uuid:27c25b90-cae6-431a-8885-18e65db0449b
STATUS:CONFIRMED
ORGANIZER:
DTSTAMP:20260421T082444Z
DTSTART;VALUE=DATE:20260430
DTEND;VALUE=DATE:20260501
LOCATION:9 Missenden Road
END:VEVENT
END:VCALENDAR