BEGIN:VCALENDAR
METHOD:PUBLISH
VERSION:2.0
CALSCALE:GREGORIAN
PRODID:-//NONSGML WPForms//NONSGML Sugar Calendar Feeds v3.11.0//EN
X-WR-CALNAME:ICCP Webinar 003
X-WR-CALDESC:ICCP | The Institute of Coaching and Consulting Psychology
X-WR-TIMEZONE:Australia/Adelaide
BEGIN:VTIMEZONE
TZID:Australia/Adelaide
BEGIN:DAYLIGHT
TZOFFSETFROM:+0930
TZOFFSETTO:+1030
DTSTART:20251004T163000
TZNAME:ACDT
END:DAYLIGHT
END:VTIMEZONE
BEGIN:VTIMEZONE
TZID:Australia/Sydney
BEGIN:DAYLIGHT
TZOFFSETFROM:+1000
TZOFFSETTO:+1100
DTSTART:20251004T160000
TZNAME:AEDT
END:DAYLIGHT
END:VTIMEZONE
BEGIN:VEVENT
SUMMARY:ICCP Webinar 003
DESCRIPTION:Purpose: More Than a Target.           \n\n\n\nWe talk about
  purpose constantly—yet most organisations still lead by targets.\n\n\
 n\nRevenue. Utilisation. Growth. Efficiency.\n\n\n\nTargets matter.But t
 hey are not purpose.\n\n\n\nPurpose is the&nbsp\;pattern of commitments 
 that give meaning to action—the values we refuse to trade away even wh
 en the numbers tempt us.\n\n\n\nWithout that deeper anchor\, familiar pr
 oblems emerge:\n\n\n\n• Teams hit KPIs while damaging relationships th
 at create future value• Public sector agencies optimise throughput whi
 le citizens feel unseen• Schools and universities lift rankings while 
 narrowing learning\n\n\n\nIn one Australian public organisation\, succes
 s was defined almost entirely by processing speed. Staff became highly e
 fficient at moving files\, yet complaints continued to rise.\n\n\n\nWhen
  leaders reframed purpose around&nbsp\;“dignified service”\, process
 es changed.Speed initially slowed. Complaints dropped. Costs followed.\n
 \n\n\nPurpose reshaped perspective.Perspective reshaped decisions.Decisi
 ons reshaped outcomes.\n\n\n\nLeadership asks not only:\n\n\n\n\n“Will
  this hit the target?”\n\n\n\n\nbut also:\n\n\n\n\n“Is this consiste
 nt with who we say we are?”\n\n\n\n\nJoin is for this webinar in which
  we explore "purpose" and its role in the workplace: Who decides what pu
 rpose we are following? How do we know we are doing it effectively? What
  is the role of leadership in managing conflicting purposes?\n\n\n\nIf y
 ou have a particular issue around purpose in your leadership\, why not s
 hare it so we can use the experience and perspectives in the room to exp
 lore it with you?\n\n\n\nRegistration is free and the link to the meetin
 g will be sent approximately 24 hours before either commences.
URL;VALUE=URI:https://iccp.com.au/events/iccp-webinar-003/
UID:urn:uuid:de376a7e-db9b-4072-b23f-657482e8e8ce
STATUS:CONFIRMED
ORGANIZER:
DTSTAMP:20260421T100920Z
DTSTART;TZID=Australia/Sydney:20260218T120000
DTEND;TZID=Australia/Sydney:20260218T130000
END:VEVENT
END:VCALENDAR